BEGIN:VCALENDAR
VERSION:2.0
PRODID:-//Travel Nevada - ECPv6.15.17.1//NONSGML v1.0//EN
CALSCALE:GREGORIAN
METHOD:PUBLISH
X-WR-CALNAME:Travel Nevada
X-ORIGINAL-URL:https://travelnevada.biz
X-WR-CALDESC:Events for Travel Nevada
REFRESH-INTERVAL;VALUE=DURATION:PT1H
X-Robots-Tag:noindex
X-PUBLISHED-TTL:PT1H
BEGIN:VTIMEZONE
TZID:America/Los_Angeles
BEGIN:DAYLIGHT
TZOFFSETFROM:-0800
TZOFFSETTO:-0700
TZNAME:PDT
DTSTART:20170312T100000
END:DAYLIGHT
BEGIN:STANDARD
TZOFFSETFROM:-0700
TZOFFSETTO:-0800
TZNAME:PST
DTSTART:20171105T090000
END:STANDARD
BEGIN:DAYLIGHT
TZOFFSETFROM:-0800
TZOFFSETTO:-0700
TZNAME:PDT
DTSTART:20180311T100000
END:DAYLIGHT
BEGIN:STANDARD
TZOFFSETFROM:-0700
TZOFFSETTO:-0800
TZNAME:PST
DTSTART:20181104T090000
END:STANDARD
BEGIN:DAYLIGHT
TZOFFSETFROM:-0800
TZOFFSETTO:-0700
TZNAME:PDT
DTSTART:20190310T100000
END:DAYLIGHT
BEGIN:STANDARD
TZOFFSETFROM:-0700
TZOFFSETTO:-0800
TZNAME:PST
DTSTART:20191103T090000
END:STANDARD
END:VTIMEZONE
BEGIN:VEVENT
DTSTART;TZID=America/Los_Angeles:20180712T000000
DTEND;TZID=America/Los_Angeles:20180712T000000
DTSTAMP:20260420T185221
CREATED:20180713T002555Z
LAST-MODIFIED:20180713T002555Z
UID:27560-1531328400-1531328400@travelnevada.biz
SUMMARY:Travel Nevada Spring FAM - Statewide\, Nevada
DESCRIPTION:We will be planning a Nevada FAM for Spring\, 2019. Exact dates\, route and theme are not yet determined.  We will be inviting travel buyers from several international and domestic markets. \nFor more information\, please contact David Lusvardi at dlusvardi@travelnevada.com (702.486.6859) or Teri Laursen at tlaursen@travelnevada.com (702.486.2426) \nPlease check back for updates.
URL:https://travelnevada.biz/event/travelnevada-spring-fam-statewide-nevada/
CATEGORIES:FAM,SIP Events
END:VEVENT
END:VCALENDAR