BEGIN:VCALENDAR
VERSION:2.0
PRODID:-//Travel Nevada - ECPv6.15.17.1//NONSGML v1.0//EN
CALSCALE:GREGORIAN
METHOD:PUBLISH
X-WR-CALNAME:Travel Nevada
X-ORIGINAL-URL:https://travelnevada.biz
X-WR-CALDESC:Events for Travel Nevada
REFRESH-INTERVAL;VALUE=DURATION:PT1H
X-Robots-Tag:noindex
X-PUBLISHED-TTL:PT1H
BEGIN:VTIMEZONE
TZID:America/Los_Angeles
BEGIN:DAYLIGHT
TZOFFSETFROM:-0800
TZOFFSETTO:-0700
TZNAME:PDT
DTSTART:20180311T100000
END:DAYLIGHT
BEGIN:STANDARD
TZOFFSETFROM:-0700
TZOFFSETTO:-0800
TZNAME:PST
DTSTART:20181104T090000
END:STANDARD
BEGIN:DAYLIGHT
TZOFFSETFROM:-0800
TZOFFSETTO:-0700
TZNAME:PDT
DTSTART:20190310T100000
END:DAYLIGHT
BEGIN:STANDARD
TZOFFSETFROM:-0700
TZOFFSETTO:-0800
TZNAME:PST
DTSTART:20191103T090000
END:STANDARD
BEGIN:DAYLIGHT
TZOFFSETFROM:-0800
TZOFFSETTO:-0700
TZNAME:PDT
DTSTART:20200308T100000
END:DAYLIGHT
BEGIN:STANDARD
TZOFFSETFROM:-0700
TZOFFSETTO:-0800
TZNAME:PST
DTSTART:20201101T090000
END:STANDARD
END:VTIMEZONE
BEGIN:VEVENT
DTSTART;TZID=America/Los_Angeles:20190513T000000
DTEND;TZID=America/Los_Angeles:20190517T000000
DTSTAMP:20260425T101337
CREATED:20180713T001538Z
LAST-MODIFIED:20180713T001538Z
UID:27563-1557680400-1558026000@travelnevada.biz
SUMMARY:Travel Nevada Canada Sales Mission - Montreal and Toronto
DESCRIPTION:Travel Nevada will be planning and operating a Spring Sales Mission to Montreal and Toronto\, Canada\, which will include meetings with and presentations to Tour Operators\, Travel Agents\, Airlines and other trade contacts. We strongly encourage our Nevada partners to join us in promoting our state.  This will be a good opportunity to build new relationships and forge new ones with our local travel companies.  Canada is a very strong fly and drive market to Nevada. \nFor more information\, please contact Yennifer Diaz at ydiaz@travelnevada.com (775-687-0645)
URL:https://travelnevada.biz/event/travelnevada-canada-sales-mission-montreal-and-toronto/
CATEGORIES:Sales Mission,SIP Events
END:VEVENT
END:VCALENDAR