BEGIN:VCALENDAR
VERSION:2.0
PRODID:-//Travel Nevada - ECPv6.15.17.1//NONSGML v1.0//EN
CALSCALE:GREGORIAN
METHOD:PUBLISH
X-WR-CALNAME:Travel Nevada
X-ORIGINAL-URL:https://travelnevada.biz
X-WR-CALDESC:Events for Travel Nevada
REFRESH-INTERVAL;VALUE=DURATION:PT1H
X-Robots-Tag:noindex
X-PUBLISHED-TTL:PT1H
BEGIN:VTIMEZONE
TZID:America/Los_Angeles
BEGIN:DAYLIGHT
TZOFFSETFROM:-0800
TZOFFSETTO:-0700
TZNAME:PDT
DTSTART:20190310T100000
END:DAYLIGHT
BEGIN:STANDARD
TZOFFSETFROM:-0700
TZOFFSETTO:-0800
TZNAME:PST
DTSTART:20191103T090000
END:STANDARD
BEGIN:DAYLIGHT
TZOFFSETFROM:-0800
TZOFFSETTO:-0700
TZNAME:PDT
DTSTART:20200308T100000
END:DAYLIGHT
BEGIN:STANDARD
TZOFFSETFROM:-0700
TZOFFSETTO:-0800
TZNAME:PST
DTSTART:20201101T090000
END:STANDARD
BEGIN:DAYLIGHT
TZOFFSETFROM:-0800
TZOFFSETTO:-0700
TZNAME:PDT
DTSTART:20210314T100000
END:DAYLIGHT
BEGIN:STANDARD
TZOFFSETFROM:-0700
TZOFFSETTO:-0800
TZNAME:PST
DTSTART:20211107T090000
END:STANDARD
END:VTIMEZONE
BEGIN:VEVENT
DTSTART;TZID=America/Los_Angeles:20201104T130000
DTEND;TZID=America/Los_Angeles:20201104T150000
DTSTAMP:20260422T014059
CREATED:20200917T043602Z
LAST-MODIFIED:20200917T043602Z
UID:27463-1604466000-1604473200@travelnevada.biz
SUMMARY:NCOT Commission Meeting 11042020
DESCRIPTION:This meeting will be held via Zoom. \nZoom – Meeting ID: 838 1513 1053 | Passcode: 443414 \nAgenda \n08132020 Minutes For Approval \nPacket – Without Grants \nRecovery Grant Recommendations \nVIP Grant Recommendations \n11042020 Minutes APPROVED \n 
URL:https://travelnevada.biz/event/ncot-commission-meeting-2/
CATEGORIES:Public Meetings
END:VEVENT
END:VCALENDAR