BEGIN:VCALENDAR
VERSION:2.0
PRODID:-//Travel Nevada - ECPv6.15.17.1//NONSGML v1.0//EN
CALSCALE:GREGORIAN
METHOD:PUBLISH
X-WR-CALNAME:Travel Nevada
X-ORIGINAL-URL:https://travelnevada.biz
X-WR-CALDESC:Events for Travel Nevada
REFRESH-INTERVAL;VALUE=DURATION:PT1H
X-Robots-Tag:noindex
X-PUBLISHED-TTL:PT1H
BEGIN:VTIMEZONE
TZID:America/Los_Angeles
BEGIN:DAYLIGHT
TZOFFSETFROM:-0800
TZOFFSETTO:-0700
TZNAME:PDT
DTSTART:20160313T100000
END:DAYLIGHT
BEGIN:STANDARD
TZOFFSETFROM:-0700
TZOFFSETTO:-0800
TZNAME:PST
DTSTART:20161106T090000
END:STANDARD
BEGIN:DAYLIGHT
TZOFFSETFROM:-0800
TZOFFSETTO:-0700
TZNAME:PDT
DTSTART:20170312T100000
END:DAYLIGHT
BEGIN:STANDARD
TZOFFSETFROM:-0700
TZOFFSETTO:-0800
TZNAME:PST
DTSTART:20171105T090000
END:STANDARD
BEGIN:DAYLIGHT
TZOFFSETFROM:-0800
TZOFFSETTO:-0700
TZNAME:PDT
DTSTART:20180311T100000
END:DAYLIGHT
BEGIN:STANDARD
TZOFFSETFROM:-0700
TZOFFSETTO:-0800
TZNAME:PST
DTSTART:20181104T090000
END:STANDARD
END:VTIMEZONE
BEGIN:VEVENT
DTSTART;TZID=America/Los_Angeles:20170215T080000
DTEND;TZID=America/Los_Angeles:20170227T200000
DTSTAMP:20260421T031805
CREATED:20170202T080000Z
LAST-MODIFIED:20170202T080000Z
UID:29960-1487116800-1488196800@travelnevada.biz
SUMMARY:Go West Summit: Feb 15 - 27\, 2017
DESCRIPTION:Go West Summit introduces the world’s top international tour operators to specialty suppliers offering tourism-related products or services in the American West. February 20-23\, 2017\, Go West Summit partners with Reno Tahoe USA and Travel Nevada to present the ultimate business-to-business tourism convention experience with a side of adventure!  Travel Nevada is organizing and leading one pre-conference fam and four post-conference fam which will showcase many destinations throughout the state.  Fam themes are Historic Ghost Towns and Ghostly Haunts; Carson Valley—Lake Tahoe—San Francisco;  Nevada Explorer; Railroad Journeys; and\, Ski Lake Tahoe.  Travel Nevada reached out to Nevada partners for collaboration and cooperation in finalizing five amazing itineraries.
URL:https://travelnevada.biz/event/go-west-summit-feb-15-27-2017/
ATTACH;FMTTYPE=image/jpeg:https://travelnevada.biz/wp-content/uploads/gowestsummit17.jpg
END:VEVENT
END:VCALENDAR