BEGIN:VCALENDAR
VERSION:2.0
PRODID:-//Travel Nevada - ECPv6.15.17.1//NONSGML v1.0//EN
CALSCALE:GREGORIAN
METHOD:PUBLISH
X-WR-CALNAME:Travel Nevada
X-ORIGINAL-URL:https://travelnevada.biz
X-WR-CALDESC:Events for Travel Nevada
REFRESH-INTERVAL;VALUE=DURATION:PT1H
X-Robots-Tag:noindex
X-PUBLISHED-TTL:PT1H
BEGIN:VTIMEZONE
TZID:America/Los_Angeles
BEGIN:DAYLIGHT
TZOFFSETFROM:-0800
TZOFFSETTO:-0700
TZNAME:PDT
DTSTART:20200308T100000
END:DAYLIGHT
BEGIN:STANDARD
TZOFFSETFROM:-0700
TZOFFSETTO:-0800
TZNAME:PST
DTSTART:20201101T090000
END:STANDARD
BEGIN:DAYLIGHT
TZOFFSETFROM:-0800
TZOFFSETTO:-0700
TZNAME:PDT
DTSTART:20210314T100000
END:DAYLIGHT
BEGIN:STANDARD
TZOFFSETFROM:-0700
TZOFFSETTO:-0800
TZNAME:PST
DTSTART:20211107T090000
END:STANDARD
BEGIN:DAYLIGHT
TZOFFSETFROM:-0800
TZOFFSETTO:-0700
TZNAME:PDT
DTSTART:20220313T100000
END:DAYLIGHT
BEGIN:STANDARD
TZOFFSETFROM:-0700
TZOFFSETTO:-0800
TZNAME:PST
DTSTART:20221106T090000
END:STANDARD
END:VTIMEZONE
BEGIN:VEVENT
DTSTART;TZID=America/Los_Angeles:20210917T090000
DTEND;TZID=America/Los_Angeles:20210917T110000
DTSTAMP:20260425T203741
CREATED:20210914T070232Z
LAST-MODIFIED:20210914T070232Z
UID:27379-1631844000-1631851200@travelnevada.biz
SUMMARY:Nevada Commission on Tourism meeting
DESCRIPTION:This meeting will take place via Zoom \nZoom Link \nMeeting ID: 838 9691 2907 | Passcode: 122491 \nAgenda\nMaterials \n 
URL:https://travelnevada.biz/event/22563/
CATEGORIES:Public Meetings
END:VEVENT
END:VCALENDAR